BEGIN:VCALENDAR
VERSION:2.0
PRODID:-//Austin&#039;s Colony of Bryan, Texas - ECPv6.15.20//NONSGML v1.0//EN
CALSCALE:GREGORIAN
METHOD:PUBLISH
X-WR-CALNAME:Austin&#039;s Colony of Bryan, Texas
X-ORIGINAL-URL:https://www.austinscolony.org
X-WR-CALDESC:Events for Austin&#039;s Colony of Bryan, Texas
REFRESH-INTERVAL;VALUE=DURATION:PT1H
X-Robots-Tag:noindex
X-PUBLISHED-TTL:PT1H
BEGIN:VTIMEZONE
TZID:America/Chicago
BEGIN:DAYLIGHT
TZOFFSETFROM:-0600
TZOFFSETTO:-0500
TZNAME:CDT
DTSTART:20250309T080000
END:DAYLIGHT
BEGIN:STANDARD
TZOFFSETFROM:-0500
TZOFFSETTO:-0600
TZNAME:CST
DTSTART:20251102T070000
END:STANDARD
BEGIN:DAYLIGHT
TZOFFSETFROM:-0600
TZOFFSETTO:-0500
TZNAME:CDT
DTSTART:20260308T080000
END:DAYLIGHT
BEGIN:STANDARD
TZOFFSETFROM:-0500
TZOFFSETTO:-0600
TZNAME:CST
DTSTART:20261101T070000
END:STANDARD
BEGIN:DAYLIGHT
TZOFFSETFROM:-0600
TZOFFSETTO:-0500
TZNAME:CDT
DTSTART:20270314T080000
END:DAYLIGHT
BEGIN:STANDARD
TZOFFSETFROM:-0500
TZOFFSETTO:-0600
TZNAME:CST
DTSTART:20271107T070000
END:STANDARD
END:VTIMEZONE
BEGIN:VEVENT
DTSTART;TZID=America/Chicago:20260512T180000
DTEND;TZID=America/Chicago:20260512T190000
DTSTAMP:20260423T072728
CREATED:20260112T185119Z
LAST-MODIFIED:20260112T185847Z
UID:1700-1778608800-1778612400@www.austinscolony.org
SUMMARY:Board of Directors Meeting - Quarterly
DESCRIPTION:Agenda: \nTBA
URL:https://www.austinscolony.org/event/board-of-directors-meeting-quarterly-2/
LOCATION:Berkshire Hathaway HomeServices Caliber Realty\, 700 University Dr. East Suite 108\, College Station\, TX\, 77840\, United States
CATEGORIES:Board Meeting
END:VEVENT
BEGIN:VEVENT
DTSTART;TZID=America/Chicago:20260811T180000
DTEND;TZID=America/Chicago:20260811T190000
DTSTAMP:20260423T072728
CREATED:20260112T185951Z
LAST-MODIFIED:20260112T190317Z
UID:1702-1786471200-1786474800@www.austinscolony.org
SUMMARY:Board of Directors Meeting - Quarterly
DESCRIPTION:Agenda: \nTBA
URL:https://www.austinscolony.org/event/board-of-directors-meeting-quarterly-3/
LOCATION:Berkshire Hathaway HomeServices Caliber Realty\, 700 University Dr. East Suite 108\, College Station\, TX\, 77840\, United States
CATEGORIES:Board Meeting
END:VEVENT
BEGIN:VEVENT
DTSTART;TZID=America/Chicago:20260921T180000
DTEND;TZID=America/Chicago:20260921T193000
DTSTAMP:20260423T072728
CREATED:20260112T190420Z
LAST-MODIFIED:20260112T190947Z
UID:1704-1790013600-1790019000@www.austinscolony.org
SUMMARY:General Membership Annual Meeting
DESCRIPTION:Agenda: \nTBA
URL:https://www.austinscolony.org/event/general-membership-annual-meeting/
LOCATION:TX
CATEGORIES:Annual Meeting
END:VEVENT
BEGIN:VEVENT
DTSTART;TZID=America/Chicago:20261110T180000
DTEND;TZID=America/Chicago:20261110T190000
DTSTAMP:20260423T072728
CREATED:20260112T190533Z
LAST-MODIFIED:20260112T190850Z
UID:1706-1794333600-1794337200@www.austinscolony.org
SUMMARY:Board of Directors Meeting - Quarterly
DESCRIPTION:Agenda : \nTBA
URL:https://www.austinscolony.org/event/board-of-directors-meeting-quarterly-4/
LOCATION:Berkshire Hathaway HomeServices Caliber Realty\, 700 University Dr. East Suite 108\, College Station\, TX\, 77840\, United States
CATEGORIES:Board Meeting
END:VEVENT
END:VCALENDAR